BEGIN:VCALENDAR
VERSION:2.0
PRODID:-//SEMMEL CONCERTS//K-POP FOREVER! Die Showsensation des Jahres Die größte K-POP Tribute-Show der Welt//EN
BEGIN:VEVENT
UID:69e85bf372810@semmel.de
DTSTAMP:20261020T170000Z
DTSTART:20261020T170000Z
DTEND:20261020T170000Z
SUMMARY:K-POP FOREVER! Die Showsensation des Jahres Die größte K-POP Tribute-Show der Welt
DESCRIPTION:K-POP FOREVER! Die Showsensation des Jahres Die größte K-POP Tribute-Show der Welt\nPSD Bank Nürnberg ARENA\n90471 Nürnberg
END:VEVENT
END:VCALENDAR
