BEGIN:VCALENDAR
VERSION:2.0
PRODID:-//SEMMEL CONCERTS//Timon Krause HAPPY Live 2027//EN
BEGIN:VEVENT
UID:69e888efb4631@semmel.de
DTSTAMP:20271005T180000Z
DTSTART:20271005T180000Z
DTEND:20271005T180000Z
SUMMARY:Timon Krause HAPPY Live 2027
DESCRIPTION:Timon Krause HAPPY Live 2027\nGlobe Wien\n1030 Wien
END:VEVENT
END:VCALENDAR
