BEGIN:VCALENDAR
VERSION:2.0
PRODID:-//SEMMEL CONCERTS//Die Prinzen Tschüssi, macht\'s gut! Die Abschiedstournee//EN
BEGIN:VEVENT
UID:69e596e2a8cf4@semmel.de
DTSTAMP:20271105T173000Z
DTSTART:20271105T173000Z
DTEND:20271105T173000Z
SUMMARY:Die Prinzen Tschüssi, macht\'s gut! Die Abschiedstournee
DESCRIPTION:Die Prinzen Tschüssi, macht\'s gut! Die Abschiedstournee\nQUARTERBACK Immobilien ARENA\n04105 Leipzig
END:VEVENT
END:VCALENDAR
