BEGIN:VCALENDAR
VERSION:2.0
PRODID:-//SEMMEL CONCERTS//Kastelruther Spatzen DolomitenSchatz Open Air live 2026//EN
BEGIN:VEVENT
UID:69ea65193beb4@semmel.de
DTSTAMP:20260828T170000Z
DTSTART:20260828T170000Z
DTEND:20260828T170000Z
SUMMARY:Kastelruther Spatzen DolomitenSchatz Open Air live 2026
DESCRIPTION:Kastelruther Spatzen DolomitenSchatz Open Air live 2026\nLuisenburg-Festspiele Wunsiedel\n95632 Wunsiedel
END:VEVENT
END:VCALENDAR
