BEGIN:VCALENDAR
VERSION:2.0
PRODID:-//SEMMEL CONCERTS//Die Prinzen Tschüssi, macht\'s gut! Die Abschiedstournee//EN
BEGIN:VEVENT
UID:69e59688b1580@semmel.de
DTSTAMP:20271026T173000Z
DTSTART:20271026T173000Z
DTEND:20271026T173000Z
SUMMARY:Die Prinzen Tschüssi, macht\'s gut! Die Abschiedstournee
DESCRIPTION:Die Prinzen Tschüssi, macht\'s gut! Die Abschiedstournee\nStadthalle\n03046 Cottbus
END:VEVENT
END:VCALENDAR
