BEGIN:VCALENDAR
VERSION:2.0
PRODID:-//SEMMEL CONCERTS//Chinesischer Nationalcircus ZENsation Chinas Grossmeister der Balance//EN
BEGIN:VEVENT
UID:69e5f2f6b38a2@semmel.de
DTSTAMP:20270324T180000Z
DTSTART:20270324T180000Z
DTEND:20270324T180000Z
SUMMARY:Chinesischer Nationalcircus ZENsation Chinas Grossmeister der Balance
DESCRIPTION:Chinesischer Nationalcircus ZENsation Chinas Grossmeister der Balance\nFriedrichsforum Bayreuth - Großer Saal\n95444 Bayreuth
END:VEVENT
END:VCALENDAR
