BEGIN:VCALENDAR
VERSION:2.0
PRODID:-//SEMMEL CONCERTS//Die Prinzen Tschüssi, macht\'s gut! Die Abschiedstournee//EN
BEGIN:VEVENT
UID:69e5968936c56@semmel.de
DTSTAMP:20271106T173000Z
DTSTART:20271106T173000Z
DTEND:20271106T173000Z
SUMMARY:Die Prinzen Tschüssi, macht\'s gut! Die Abschiedstournee
DESCRIPTION:Die Prinzen Tschüssi, macht\'s gut! Die Abschiedstournee\nGETEC-Arena\n39114 Magdeburg
END:VEVENT
END:VCALENDAR
