BEGIN:VCALENDAR
VERSION:2.0
PRODID:-//SEMMEL CONCERTS//Dick Brave Back for More Open Air Tour 2026//EN
BEGIN:VEVENT
UID:69ea1d4576505@semmel.de
DTSTAMP:20260825T173000Z
DTSTART:20260825T173000Z
DTEND:20260825T173000Z
SUMMARY:Dick Brave Back for More Open Air Tour 2026
DESCRIPTION:Dick Brave Back for More Open Air Tour 2026\nBurg Wilhelmstein\n52146 Würselen
END:VEVENT
END:VCALENDAR
