BEGIN:VCALENDAR
VERSION:2.0
PRODID:-//SEMMEL CONCERTS//Pretty Woman - Das Musical Pretty Woman - Das Musical//EN
BEGIN:VEVENT
UID:69eccf37ce1ac@semmel.de
DTSTAMP:20260812T173000Z
DTSTART:20260812T173000Z
DTEND:20260812T173000Z
SUMMARY:Pretty Woman - Das Musical Pretty Woman - Das Musical
DESCRIPTION:Pretty Woman - Das Musical Pretty Woman - Das Musical\nOÖ Theater und Orchester GmbH Landestheater Linz\n4020 Linz
END:VEVENT
END:VCALENDAR
