BEGIN:VCALENDAR
VERSION:2.0
PRODID:-//SEMMEL CONCERTS//STOMP Die internationale Theatersensation kehrt zurück!//EN
BEGIN:VEVENT
UID:69e9ca16566ff@semmel.de
DTSTAMP:20270212T173000Z
DTSTART:20270212T173000Z
DTEND:20270212T173000Z
SUMMARY:STOMP Die internationale Theatersensation kehrt zurück!
DESCRIPTION:STOMP Die internationale Theatersensation kehrt zurück!\nMetronom Theater\n46047 Oberhausen
END:VEVENT
END:VCALENDAR
