BEGIN:VCALENDAR
VERSION:2.0
PRODID:-//SEMMEL CONCERTS//Clara Lösel Ich dachte, sowas fühl nur ich Live Tour 2027//EN
BEGIN:VEVENT
UID:69e77e62545f8@semmel.de
DTSTAMP:20270516T173000Z
DTSTART:20270516T173000Z
DTEND:20270516T173000Z
SUMMARY:Clara Lösel Ich dachte, sowas fühl nur ich Live Tour 2027
DESCRIPTION:Clara Lösel Ich dachte, sowas fühl nur ich Live Tour 2027\nStadthalle Köln\n51065 Köln
END:VEVENT
END:VCALENDAR
