BEGIN:VCALENDAR
VERSION:2.0
PRODID:-//SEMMEL CONCERTS//Die Prinzen Tschüssi, macht\'s gut! Die Abschiedstournee//EN
BEGIN:VEVENT
UID:69e596c37a9d4@semmel.de
DTSTAMP:20271116T173000Z
DTSTART:20271116T173000Z
DTEND:20271116T173000Z
SUMMARY:Die Prinzen Tschüssi, macht\'s gut! Die Abschiedstournee
DESCRIPTION:Die Prinzen Tschüssi, macht\'s gut! Die Abschiedstournee\nFesthalle Frankfurt\n60327 Frankfurt am Main
END:VEVENT
END:VCALENDAR
