BEGIN:VCALENDAR
VERSION:2.0
PRODID:-//SEMMEL CONCERTS//K-POP FOREVER! Die Showsensation des Jahres Die größte K-POP Tribute-Show der Welt//EN
BEGIN:VEVENT
UID:69e859ef7f7de@semmel.de
DTSTAMP:20261023T170000Z
DTSTART:20261023T170000Z
DTEND:20261023T170000Z
SUMMARY:K-POP FOREVER! Die Showsensation des Jahres Die größte K-POP Tribute-Show der Welt
DESCRIPTION:K-POP FOREVER! Die Showsensation des Jahres Die größte K-POP Tribute-Show der Welt\nBMW Park\n81373 München
END:VEVENT
END:VCALENDAR
