BEGIN:VCALENDAR
VERSION:2.0
PRODID:-//SEMMEL CONCERTS//Luca Vasta \'DISCO MARE\' TOUR 2027//EN
BEGIN:VEVENT
UID:69ecf92b5c1b7@semmel.de
DTSTAMP:20270226T180000Z
DTSTART:20270226T180000Z
DTEND:20270226T180000Z
SUMMARY:Luca Vasta \'DISCO MARE\' TOUR 2027
DESCRIPTION:Luca Vasta \'DISCO MARE\' TOUR 2027\nKupfersaal\n04109 Leipzig
END:VEVENT
END:VCALENDAR
