BEGIN:VCALENDAR
VERSION:2.0
PRODID:-//SEMMEL CONCERTS//Georg Stengel ISSO Live mit Band 2026//EN
BEGIN:VEVENT
UID:69e7578fb7cce@semmel.de
DTSTAMP:20260508T180000Z
DTSTART:20260508T180000Z
DTEND:20260508T180000Z
SUMMARY:Georg Stengel ISSO Live mit Band 2026
DESCRIPTION:Georg Stengel ISSO Live mit Band 2026\nHuxleys Neue Welt\n10967 Berlin
END:VEVENT
END:VCALENDAR
