BEGIN:VCALENDAR
VERSION:2.0
PRODID:-//SEMMEL CONCERTS//Clara Lösel Ich dachte, sowas fühl nur ich Live Tour 2027//EN
BEGIN:VEVENT
UID:69e77e47a8b98@semmel.de
DTSTAMP:20270529T173000Z
DTSTART:20270529T173000Z
DTEND:20270529T173000Z
SUMMARY:Clara Lösel Ich dachte, sowas fühl nur ich Live Tour 2027
DESCRIPTION:Clara Lösel Ich dachte, sowas fühl nur ich Live Tour 2027\nMetronom Theater\n46047 Oberhausen
END:VEVENT
END:VCALENDAR
