BEGIN:VCALENDAR
VERSION:2.0
PRODID:-//SEMMEL CONCERTS//Luca Vasta \'DISCO MARE\' TOUR 2027//EN
BEGIN:VEVENT
UID:69ecf7f4964b2@semmel.de
DTSTAMP:20270227T180000Z
DTSTART:20270227T180000Z
DTEND:20270227T180000Z
SUMMARY:Luca Vasta \'DISCO MARE\' TOUR 2027
DESCRIPTION:Luca Vasta \'DISCO MARE\' TOUR 2027\nScheune\n01099 Dresden
END:VEVENT
END:VCALENDAR
