BEGIN:VCALENDAR
VERSION:2.0
PRODID:-//SEMMEL CONCERTS//MAMMA MIA! Das Original-Musical//EN
BEGIN:VEVENT
UID:69e65830c3129@semmel.de
DTSTAMP:20271003T160000Z
DTSTART:20271003T160000Z
DTEND:20271003T160000Z
SUMMARY:MAMMA MIA! Das Original-Musical
DESCRIPTION:MAMMA MIA! Das Original-Musical\nMetronom Theater\n46047 Oberhausen
END:VEVENT
END:VCALENDAR
