BEGIN:VCALENDAR
VERSION:2.0
PRODID:-//SEMMEL CONCERTS//Die Prinzen Tschüssi, macht\'s gut! Die Abschiedstournee//EN
BEGIN:VEVENT
UID:69e596dbc0e09@semmel.de
DTSTAMP:20271028T173000Z
DTSTART:20271028T173000Z
DTEND:20271028T173000Z
SUMMARY:Die Prinzen Tschüssi, macht\'s gut! Die Abschiedstournee
DESCRIPTION:Die Prinzen Tschüssi, macht\'s gut! Die Abschiedstournee\nUber Arena\n10243 Berlin
END:VEVENT
END:VCALENDAR
