BEGIN:VCALENDAR
VERSION:2.0
PRODID:-//SEMMEL CONCERTS//Santiano DA BRAUT SICH WAS ZUSAMMEN DIE GROSSE ARENA TOUR//EN
BEGIN:VEVENT
UID:69e62175550c3@semmel.de
DTSTAMP:20261124T180000Z
DTSTART:20261124T180000Z
DTEND:20261124T180000Z
SUMMARY:Santiano DA BRAUT SICH WAS ZUSAMMEN DIE GROSSE ARENA TOUR
DESCRIPTION:Santiano DA BRAUT SICH WAS ZUSAMMEN DIE GROSSE ARENA TOUR\nWiener Stadthalle - Halle F\n1150 Wien
END:VEVENT
END:VCALENDAR
