BEGIN:VCALENDAR
VERSION:2.0
PRODID:-//SEMMEL CONCERTS//Clara Lösel Ich dachte, sowas fühl nur ich Live Tour 2027//EN
BEGIN:VEVENT
UID:69e77eb0ac77d@semmel.de
DTSTAMP:20270509T173000Z
DTSTART:20270509T173000Z
DTEND:20270509T173000Z
SUMMARY:Clara Lösel Ich dachte, sowas fühl nur ich Live Tour 2027
DESCRIPTION:Clara Lösel Ich dachte, sowas fühl nur ich Live Tour 2027\nHaus Auensee\n04159 Leipzig
END:VEVENT
END:VCALENDAR
