BEGIN:VCALENDAR
VERSION:2.0
PRODID:-//SEMMEL CONCERTS//Il Volo World Tour 2027//EN
BEGIN:VEVENT
UID:69e60d4d960a8@semmel.de
DTSTAMP:20271013T180000Z
DTSTART:20271013T180000Z
DTEND:20271013T180000Z
SUMMARY:Il Volo World Tour 2027
DESCRIPTION:Il Volo World Tour 2027\nPSD Bank Dome\n40472 Düsseldorf
END:VEVENT
END:VCALENDAR
