BEGIN:VCALENDAR
VERSION:2.0
PRODID:-//SEMMEL CONCERTS//Die Prinzen Tschüssi, macht\'s gut! Die Abschiedstournee//EN
BEGIN:VEVENT
UID:69e596a893dd9@semmel.de
DTSTAMP:20271023T173000Z
DTSTART:20271023T173000Z
DTEND:20271023T173000Z
SUMMARY:Die Prinzen Tschüssi, macht\'s gut! Die Abschiedstournee
DESCRIPTION:Die Prinzen Tschüssi, macht\'s gut! Die Abschiedstournee\nPorsche Arena\n70372 Stuttgart
END:VEVENT
END:VCALENDAR
