BEGIN:VCALENDAR
VERSION:2.0
PRODID:-//SEMMEL CONCERTS//Timon Krause HAPPY Live 2027//EN
BEGIN:VEVENT
UID:69e5f1d86c5c9@semmel.de
DTSTAMP:20271003T170000Z
DTSTART:20271003T170000Z
DTEND:20271003T170000Z
SUMMARY:Timon Krause HAPPY Live 2027
DESCRIPTION:Timon Krause HAPPY Live 2027\nVolkshaus Zürich\n8004 Zürich
END:VEVENT
END:VCALENDAR
