BEGIN:VCALENDAR
VERSION:2.0
PRODID:-//SEMMEL CONCERTS//Dick Brave Back for More Open Air Tour 2026//EN
BEGIN:VEVENT
UID:69ea1ceccbe3b@semmel.de
DTSTAMP:20260727T180000Z
DTSTART:20260727T180000Z
DTEND:20260727T180000Z
SUMMARY:Dick Brave Back for More Open Air Tour 2026
DESCRIPTION:Dick Brave Back for More Open Air Tour 2026\nWinterbach Zeltspektakel\n73650 Winterbach
END:VEVENT
END:VCALENDAR
