BEGIN:VCALENDAR
VERSION:2.0
PRODID:-//SEMMEL CONCERTS//One Vision of Queen feat. Marc Martel One of the most spectacular Queen Tribute Shows//EN
BEGIN:VEVENT
UID:69ea67aa5cb34@semmel.de
DTSTAMP:20270308T173000Z
DTSTART:20270308T173000Z
DTEND:20270308T173000Z
SUMMARY:One Vision of Queen feat. Marc Martel One of the most spectacular Queen Tribute Shows
DESCRIPTION:One Vision of Queen feat. Marc Martel One of the most spectacular Queen Tribute Shows\nAnnexet - Stockholm Live\n12177 Stockholm
END:VEVENT
END:VCALENDAR
