BEGIN:VCALENDAR
VERSION:2.0
PRODID:-//SEMMEL CONCERTS//Santiano DA BRAUT SICH WAS ZUSAMMEN DIE GROSSE ARENA TOUR//EN
BEGIN:VEVENT
UID:69e62254daaaf@semmel.de
DTSTAMP:20261117T180000Z
DTSTART:20261117T180000Z
DTEND:20261117T180000Z
SUMMARY:Santiano DA BRAUT SICH WAS ZUSAMMEN DIE GROSSE ARENA TOUR
DESCRIPTION:Santiano DA BRAUT SICH WAS ZUSAMMEN DIE GROSSE ARENA TOUR\nEmsland Arena\n49808 Lingen
END:VEVENT
END:VCALENDAR
