BEGIN:VCALENDAR
VERSION:2.0
PRODID:-//SEMMEL CONCERTS//STOMP Die internationale Theatersensation kehrt zurück!//EN
BEGIN:VEVENT
UID:69e9c9df5a57f@semmel.de
DTSTAMP:20270214T120000Z
DTSTART:20270214T120000Z
DTEND:20270214T120000Z
SUMMARY:STOMP Die internationale Theatersensation kehrt zurück!
DESCRIPTION:STOMP Die internationale Theatersensation kehrt zurück!\nMetronom Theater\n46047 Oberhausen
END:VEVENT
END:VCALENDAR
