BEGIN:VCALENDAR
VERSION:2.0
PRODID:-//SEMMEL CONCERTS//die PRINZEN Symphonica Alle Hits - mit großem Orchester//EN
BEGIN:VEVENT
UID:69ea0485e106f@semmel.de
DTSTAMP:20260527T173000Z
DTSTART:20260527T173000Z
DTEND:20260527T173000Z
SUMMARY:die PRINZEN Symphonica Alle Hits - mit großem Orchester
DESCRIPTION:die PRINZEN Symphonica Alle Hits - mit großem Orchester\nGewandhaus zu Leipzig\n04109 Leipzig
END:VEVENT
END:VCALENDAR
