BEGIN:VCALENDAR
VERSION:2.0
PRODID:-//SEMMEL CONCERTS//Die Prinzen Tschüssi, macht\'s gut! Die Abschiedstournee//EN
BEGIN:VEVENT
UID:69e596c35b16f@semmel.de
DTSTAMP:20271103T170000Z
DTSTART:20271103T170000Z
DTEND:20271103T170000Z
SUMMARY:Die Prinzen Tschüssi, macht\'s gut! Die Abschiedstournee
DESCRIPTION:Die Prinzen Tschüssi, macht\'s gut! Die Abschiedstournee\nKia Metropol Arena\n90432 Nürnberg
END:VEVENT
END:VCALENDAR
