BEGIN:VCALENDAR
VERSION:2.0
PRODID:-//SEMMEL CONCERTS//Die Prinzen Tschüssi, macht\'s gut! Die Abschiedstournee//EN
BEGIN:VEVENT
UID:69e596a8b2d4c@semmel.de
DTSTAMP:20271022T173000Z
DTSTART:20271022T173000Z
DTEND:20271022T173000Z
SUMMARY:Die Prinzen Tschüssi, macht\'s gut! Die Abschiedstournee
DESCRIPTION:Die Prinzen Tschüssi, macht\'s gut! Die Abschiedstournee\nFreiheitshalle\n95030 Hof / Saale
END:VEVENT
END:VCALENDAR
