BEGIN:VCALENDAR
VERSION:2.0
PRODID:-//SEMMEL CONCERTS//K-POP FOREVER! Die Showsensation des Jahres Die größte K-POP Tribute-Show der Welt//EN
BEGIN:VEVENT
UID:69e85a48896ce@semmel.de
DTSTAMP:20261016T170000Z
DTSTART:20261016T170000Z
DTEND:20261016T170000Z
SUMMARY:K-POP FOREVER! Die Showsensation des Jahres Die größte K-POP Tribute-Show der Welt
DESCRIPTION:K-POP FOREVER! Die Showsensation des Jahres Die größte K-POP Tribute-Show der Welt\nBarclays Arena\n22525 Hamburg
END:VEVENT
END:VCALENDAR
