BEGIN:VCALENDAR
VERSION:2.0
PRODID:-//SEMMEL CONCERTS//Il Volo World Tour 2027//EN
BEGIN:VEVENT
UID:69e60d4d772f0@semmel.de
DTSTAMP:20271012T180000Z
DTSTART:20271012T180000Z
DTEND:20271012T180000Z
SUMMARY:Il Volo World Tour 2027
DESCRIPTION:Il Volo World Tour 2027\nHanns-Martin-Schleyer-Halle\n70372 Stuttgart
END:VEVENT
END:VCALENDAR
