BEGIN:VCALENDAR
VERSION:2.0
PRODID:-//SEMMEL CONCERTS//Dick Brave Back for More Open Air Tour 2026//EN
BEGIN:VEVENT
UID:69ea1d5b4c7b6@semmel.de
DTSTAMP:20260821T180000Z
DTSTART:20260821T180000Z
DTEND:20260821T180000Z
SUMMARY:Dick Brave Back for More Open Air Tour 2026
DESCRIPTION:Dick Brave Back for More Open Air Tour 2026\nSummertime auf dem Campus\n63743 Aschaffenburg
END:VEVENT
END:VCALENDAR
