BEGIN:VCALENDAR
VERSION:2.0
PRODID:-//SEMMEL CONCERTS//Timon Krause HAPPY Live 2027//EN
BEGIN:VEVENT
UID:69e5f1d88b68b@semmel.de
DTSTAMP:20271016T180000Z
DTSTART:20271016T180000Z
DTEND:20271016T180000Z
SUMMARY:Timon Krause HAPPY Live 2027
DESCRIPTION:Timon Krause HAPPY Live 2027\nUber Eats Music Hall\n10243 Berlin
END:VEVENT
END:VCALENDAR
