BEGIN:VCALENDAR
VERSION:2.0
PRODID:-//SEMMEL CONCERTS//Die Prinzen Tschüssi, macht\'s gut! Die Abschiedstournee//EN
BEGIN:VEVENT
UID:69e5976e59078@semmel.de
DTSTAMP:20271114T160000Z
DTSTART:20271114T160000Z
DTEND:20271114T160000Z
SUMMARY:Die Prinzen Tschüssi, macht\'s gut! Die Abschiedstournee
DESCRIPTION:Die Prinzen Tschüssi, macht\'s gut! Die Abschiedstournee\nSAP ARENA\n68163 Mannheim
END:VEVENT
END:VCALENDAR
