BEGIN:VCALENDAR
VERSION:2.0
PRODID:-//SEMMEL CONCERTS//Clueso Deja-Vu Domplatz 2026//EN
BEGIN:VEVENT
UID:69e60dbae22b1@semmel.de
DTSTAMP:20260704T173000Z
DTSTART:20260704T173000Z
DTEND:20260704T173000Z
SUMMARY:Clueso Deja-Vu Domplatz 2026
DESCRIPTION:Clueso Deja-Vu Domplatz 2026\nDomplatz\n99084 Erfurt
END:VEVENT
END:VCALENDAR
