BEGIN:VCALENDAR
VERSION:2.0
PRODID:-//SEMMEL CONCERTS//die PRINZEN Symphonica Alle Hits - mit großem Orchester//EN
BEGIN:VEVENT
UID:69ea0473cbf2c@semmel.de
DTSTAMP:20260523T173000Z
DTSTART:20260523T173000Z
DTEND:20260523T173000Z
SUMMARY:die PRINZEN Symphonica Alle Hits - mit großem Orchester
DESCRIPTION:die PRINZEN Symphonica Alle Hits - mit großem Orchester\nTempodrom\n10963 Berlin
END:VEVENT
END:VCALENDAR
