BEGIN:VCALENDAR
VERSION:2.0
PRODID:-//SEMMEL CONCERTS//Die Prinzen Tschüssi, macht\'s gut! Die Abschiedstournee//EN
BEGIN:VEVENT
UID:69e5972f15c8c@semmel.de
DTSTAMP:20271214T173000Z
DTSTART:20271214T173000Z
DTEND:20271214T173000Z
SUMMARY:Die Prinzen Tschüssi, macht\'s gut! Die Abschiedstournee
DESCRIPTION:Die Prinzen Tschüssi, macht\'s gut! Die Abschiedstournee\nWiener Stadthalle - Halle F\n1150 Wien
END:VEVENT
END:VCALENDAR
