BEGIN:VCALENDAR
VERSION:2.0
PRODID:-//SEMMEL CONCERTS//MAMMA MIA! Das Original-Musical//EN
BEGIN:VEVENT
UID:69e658602695e@semmel.de
DTSTAMP:20270929T173000Z
DTSTART:20270929T173000Z
DTEND:20270929T173000Z
SUMMARY:MAMMA MIA! Das Original-Musical
DESCRIPTION:MAMMA MIA! Das Original-Musical\nMetronom Theater\n46047 Oberhausen
END:VEVENT
END:VCALENDAR
