BEGIN:VCALENDAR
VERSION:2.0
PRODID:-//SEMMEL CONCERTS//Timon Krause HAPPY Live 2027//EN
BEGIN:VEVENT
UID:69e5f4b91b9f6@semmel.de
DTSTAMP:20271002T180000Z
DTSTART:20271002T180000Z
DTEND:20271002T180000Z
SUMMARY:Timon Krause HAPPY Live 2027
DESCRIPTION:Timon Krause HAPPY Live 2027\nRosengarten - Musensaal\n68161 Mannheim
END:VEVENT
END:VCALENDAR
