BEGIN:VCALENDAR
VERSION:2.0
PRODID:-//SEMMEL CONCERTS//Die Prinzen Tschüssi, macht\'s gut! Die Abschiedstournee//EN
BEGIN:VEVENT
UID:69e5972f3484f@semmel.de
DTSTAMP:20271112T173000Z
DTSTART:20271112T173000Z
DTEND:20271112T173000Z
SUMMARY:Die Prinzen Tschüssi, macht\'s gut! Die Abschiedstournee
DESCRIPTION:Die Prinzen Tschüssi, macht\'s gut! Die Abschiedstournee\nRudolf Weber-ARENA\n46047 Oberhausen
END:VEVENT
END:VCALENDAR
