BEGIN:VCALENDAR
VERSION:2.0
PRODID:-//SEMMEL CONCERTS//Die Prinzen Tschüssi, macht\'s gut! Die Abschiedstournee//EN
BEGIN:VEVENT
UID:69e59720054a1@semmel.de
DTSTAMP:20271118T173000Z
DTSTART:20271118T173000Z
DTEND:20271118T173000Z
SUMMARY:Die Prinzen Tschüssi, macht\'s gut! Die Abschiedstournee
DESCRIPTION:Die Prinzen Tschüssi, macht\'s gut! Die Abschiedstournee\nSparkassen-Arena Zwickau\n08056 Zwickau
END:VEVENT
END:VCALENDAR
