BEGIN:VCALENDAR
VERSION:2.0
PRODID:-//SEMMEL CONCERTS//Santiano DA BRAUT SICH WAS ZUSAMMEN DIE GROSSE ARENA TOUR//EN
BEGIN:VEVENT
UID:69e623bb4dc8a@semmel.de
DTSTAMP:20261116T180000Z
DTSTART:20261116T180000Z
DTEND:20261116T180000Z
SUMMARY:Santiano DA BRAUT SICH WAS ZUSAMMEN DIE GROSSE ARENA TOUR
DESCRIPTION:Santiano DA BRAUT SICH WAS ZUSAMMEN DIE GROSSE ARENA TOUR\nProbonio Arena\n34121 Kassel
END:VEVENT
END:VCALENDAR
