BEGIN:VCALENDAR
VERSION:2.0
PRODID:-//SEMMEL CONCERTS//Pretty Woman - Das Musical Pretty Woman - Das Musical//EN
BEGIN:VEVENT
UID:69eccc76a69f4@semmel.de
DTSTAMP:20260815T123000Z
DTSTART:20260815T123000Z
DTEND:20260815T123000Z
SUMMARY:Pretty Woman - Das Musical Pretty Woman - Das Musical
DESCRIPTION:Pretty Woman - Das Musical Pretty Woman - Das Musical\nOÖ Theater und Orchester GmbH Landestheater Linz\n4020 Linz
END:VEVENT
END:VCALENDAR
