BEGIN:VCALENDAR
VERSION:2.0
PRODID:-//SEMMEL CONCERTS//Die Prinzen Tschüssi, macht\'s gut! Die Abschiedstournee//EN
BEGIN:VEVENT
UID:69e597979984f@semmel.de
DTSTAMP:20271029T173000Z
DTSTART:20271029T173000Z
DTEND:20271029T173000Z
SUMMARY:Die Prinzen Tschüssi, macht\'s gut! Die Abschiedstournee
DESCRIPTION:Die Prinzen Tschüssi, macht\'s gut! Die Abschiedstournee\nJahnsportforum\n17033 Neubrandenburg
END:VEVENT
END:VCALENDAR
