BEGIN:VCALENDAR
VERSION:2.0
PRODID:-//SEMMEL CONCERTS//Highfield Festival 2026//EN
BEGIN:VEVENT
UID:69e5f3a62163b@semmel.de
DTSTAMP:19700101T000000Z
DTSTART:19700101T000000Z
DTEND:19700101T000000Z
SUMMARY:Highfield Festival 2026
DESCRIPTION:Highfield Festival 2026\nStörmthaler See\n04463 Großpösna
END:VEVENT
END:VCALENDAR
