BEGIN:VCALENDAR
VERSION:2.0
PRODID:-//SEMMEL CONCERTS//Die Prinzen Tschüssi, macht\'s gut! Die Abschiedstournee//EN
BEGIN:VEVENT
UID:69e59720243de@semmel.de
DTSTAMP:20271031T170000Z
DTSTART:20271031T170000Z
DTEND:20271031T170000Z
SUMMARY:Die Prinzen Tschüssi, macht\'s gut! Die Abschiedstournee
DESCRIPTION:Die Prinzen Tschüssi, macht\'s gut! Die Abschiedstournee\nCircus Krone Bau\n80335 München
END:VEVENT
END:VCALENDAR
