BEGIN:VCALENDAR
VERSION:2.0
PRODID:-//SEMMEL CONCERTS//Timon Krause HAPPY Live 2027//EN
BEGIN:VEVENT
UID:69e5f45752f00@semmel.de
DTSTAMP:20271001T180000Z
DTSTART:20271001T180000Z
DTEND:20271001T180000Z
SUMMARY:Timon Krause HAPPY Live 2027
DESCRIPTION:Timon Krause HAPPY Live 2027\nStadthalle am Schloss\n63739 Aschaffenburg
END:VEVENT
END:VCALENDAR
