BEGIN:VCALENDAR
VERSION:2.0
PRODID:-//SEMMEL CONCERTS//Georg Stengel ISSO Live mit Band 2026//EN
BEGIN:VEVENT
UID:69e75099b7913@semmel.de
DTSTAMP:20260505T180000Z
DTSTART:20260505T180000Z
DTEND:20260505T180000Z
SUMMARY:Georg Stengel ISSO Live mit Band 2026
DESCRIPTION:Georg Stengel ISSO Live mit Band 2026\nAlter Schlachthof\n01097 Dresden
END:VEVENT
END:VCALENDAR
